BEGIN:VCALENDAR
PRODID:-//AT Content Types//AT Event//EN
VERSION:1.0
BEGIN:VEVENT
DTSTART:20060904T090000Z
DTEND:20060907T180000Z
DCREATED:20060719T144350Z
UID:ATEvent-f97addacefe855770db0ab1020de29af
SEQUENCE:0
LAST-MODIFIED:20060809T132457Z
SUMMARY:First EELA Conference, Santiago, Chile, 4-7 September 2006 
LOCATION:Technical University Federico Santa Maria, Santiago, Chile
PRIORITY:3
TRANSP:0
END:VEVENT


END:VCALENDAR
