BEGIN:VCALENDAR
PRODID:-//AT Content Types//AT Event//EN
VERSION:1.0
BEGIN:VEVENT
DTSTART:20060911T000000Z
DTEND:20060914T000000Z
DCREATED:20060807T130217Z
UID:ATEvent-eb014dc3bc10a5079d9c6860a7eeaa95
SEQUENCE:0
LAST-MODIFIED:20060913T150356Z
SUMMARY:The 18th Global Grid Forum, Washington DC, 11-14 September 2006
LOCATION:Washington DC, USA
PRIORITY:3
TRANSP:0
END:VEVENT


END:VCALENDAR
