BEGIN:VCALENDAR
PRODID:-//AT Content Types//AT Event//EN
VERSION:2.0

BEGIN:VEVENT
DTSTAMP:20080319T025544Z
CREATED:20080103T114442Z
UID:ATEvent-06ba16da5405ca9aee4cfac3e5c9b3d5
SEQUENCE:0
LAST-MODIFIED:20080104T122329Z
SUMMARY:31st International Convention MIPRO 2008
DTSTART:20080526T090000Z
DTEND:20080530T170000Z
LOCATION:Opatija, Croatia
CATEGORIES:Conference
CLASS:PUBLIC
PRIORITY:3
TRANSP:OPAQUE
END:VEVENT


END:VCALENDAR
