BEGIN:VCALENDAR
PRODID:-//AT Content Types//AT Event//EN
VERSION:1.0
BEGIN:VEVENT
DTSTART:20060821T000000Z
DTEND:20060823T000000Z
DCREATED:20060807T104722Z
UID:ATEvent-9665e1fb922c0d313b14b6bab00503e5
SEQUENCE:0
LAST-MODIFIED:20060807T105211Z
SUMMARY:Open Grid Science Consortium Meeting, Seattle, 21-23 August 2006
LOCATION:University of Washington, Seattle
PRIORITY:3
TRANSP:0
END:VEVENT


END:VCALENDAR
