BEGIN:VCALENDAR
PRODID:-//AT Content Types//AT Event//EN
VERSION:2.0

BEGIN:VEVENT
DTSTAMP:20061002T060724Z
CREATED:20060331T152502Z
UID:ATEvent-1e0cddaeb47df3e25c3be08e8941d8a8
SEQUENCE:0
LAST-MODIFIED:20060619T152126Z
SUMMARY:Rights Management in Grids at HPDC-15
DTSTART:20060619T000000Z
DTEND:20060619T000000Z
LOCATION:Paris, France
CATEGORIES:Workshop
CLASS:PUBLIC
PRIORITY:3
TRANSP:OPAQUE
END:VEVENT


END:VCALENDAR
