BEGIN:VCALENDAR
PRODID:-//AT Content Types//AT Event//EN
VERSION:2.0

BEGIN:VEVENT
DTSTAMP:20061002T060637Z
CREATED:20060418T102551Z
UID:ATEvent-d16d9e169b28e36e9ea7aa1bb045122e
SEQUENCE:0
LAST-MODIFIED:20060620T111531Z
SUMMARY:Workshop, 8-9 June 2006, Brussels, Belgium
DTSTART:20060608T000000Z
DTEND:20060609T235500Z
DESCRIPTION:Workshop "European Infrastructure for Repositories of Scientific Information"
LOCATION:Brussels, Belgium
CATEGORIES:Workshop
CLASS:PUBLIC
PRIORITY:3
TRANSP:OPAQUE
END:VEVENT


END:VCALENDAR
