BEGIN:VCALENDAR
PRODID:-//AT Content Types//AT Event//EN
VERSION:1.0
BEGIN:VEVENT
DTSTART:20060704T000000Z
DTEND:20060705T235500Z
DCREATED:20060526T155139Z
UID:ATEvent-a5d5e4279d6c7c7b0f029b6b12500da8
SEQUENCE:0
LAST-MODIFIED:20060621T115000Z
SUMMARY:Grid 2006, 4-5 July 2006, Milan Italy
LOCATION:Milan, Italy
PRIORITY:3
TRANSP:0
END:VEVENT


END:VCALENDAR
