BEGIN:VCALENDAR
PRODID:-//AT Content Types//AT Event//EN
VERSION:2.0

BEGIN:VEVENT
DTSTAMP:20061002T060923Z
CREATED:20060331T192352Z
UID:ATEvent-3eda21d0b3598ccd87d623c838fa9f2f
SEQUENCE:0
LAST-MODIFIED:20060612T180451Z
SUMMARY:Grid Networks and Services, 16-18 July 2006, California
DTSTART:20060716T000000Z
DTEND:20060718T190000Z
LOCATION:California, United States
CATEGORIES:Convention
CLASS:PUBLIC
PRIORITY:3
TRANSP:OPAQUE
END:VEVENT


END:VCALENDAR
