BEGIN:VCALENDAR
PRODID:-//AT Content Types//AT Event//EN
VERSION:2.0

BEGIN:VEVENT
DTSTAMP:20061002T061023Z
CREATED:20060331T193430Z
UID:ATEvent-dba2e653aaa2521845c3fa3bc9c6d17f
SEQUENCE:0
LAST-MODIFIED:20060612T180953Z
SUMMARY:GridNets 2006, 1-2 Oct 2006 San Jose, California
DTSTART:20061001T000000Z
DTEND:20061002T000000Z
LOCATION:San Jose, California, US
CATEGORIES:Workshop
CLASS:PUBLIC
PRIORITY:3
TRANSP:OPAQUE
END:VEVENT


END:VCALENDAR
