BEGIN:VCALENDAR
PRODID:-//AT Content Types//AT Event//EN
VERSION:1.0
BEGIN:VEVENT
DTSTART:20060425T145500Z
DTEND:20060429T145500Z
DCREATED:20060331T145822Z
UID:ATEvent-662b9849d966ce7cc57e664f738e0e9f
SEQUENCE:0
LAST-MODIFIED:20060619T152640Z
SUMMARY:IPDPS 2006, Rhodes Island, Greece
DESCRIPTION:International Parallel & Distributed Processing Symposium (IPDPS 2006)
LOCATION:Rhodes Island, Greece
PRIORITY:3
TRANSP:0
END:VEVENT


END:VCALENDAR
