BEGIN:VCALENDAR
PRODID:-//AT Content Types//AT Event//EN
VERSION:2.0

BEGIN:VEVENT
DTSTAMP:20061002T065610Z
CREATED:20060410T124151Z
UID:ATEvent-1da676ddc3df96fac9afa2bed91f3fed
SEQUENCE:0
LAST-MODIFIED:20060620T110328Z
SUMMARY:TERENA NREN-Grids 27 - 28 April 2006 Workshop 
DTSTART:20060427T000000Z
DTEND:20060428T235500Z
LOCATION:Paris, France
CATEGORIES:Workshop
CLASS:PUBLIC
PRIORITY:3
TRANSP:OPAQUE
END:VEVENT


END:VCALENDAR
