BEGIN:VCALENDAR
PRODID:-//AT Content Types//AT Event//EN
VERSION:2.0

BEGIN:VEVENT
DTSTAMP:20061002T060710Z
CREATED:20060331T192543Z
UID:ATEvent-1da79ed762da157e73d3c3603a60b5d7
SEQUENCE:0
LAST-MODIFIED:20060612T181507Z
SUMMARY:The 2006 IFIP International Conference on Embedded And Ubiquitous Computing (EUC2006) Seoul, Korea 1-4 August 2006
DTSTART:20060801T000000Z
DTEND:20060804T000000Z
CATEGORIES:Conference
CLASS:PUBLIC
PRIORITY:3
TRANSP:OPAQUE
END:VEVENT


END:VCALENDAR
