BEGIN:VCALENDAR
PRODID:-//AT Content Types//AT Event//EN
VERSION:1.0
BEGIN:VEVENT
DTSTART:20060712T150000Z
DTEND:20060712T190000Z
DCREATED:20060626T114159Z
UID:ATEvent-7cc41d0fb24a49026ad4d87e9a3427f2
SEQUENCE:0
LAST-MODIFIED:20060714T184138Z
SUMMARY:Industry Day, 12 July 2006 Ischia, Italy
LOCATION:Jolly Hotel, Ischia, ITALY
PRIORITY:3
TRANSP:0
END:VEVENT


END:VCALENDAR
