BEGIN:VCALENDAR
PRODID:-//AT Content Types//AT Event//EN
VERSION:1.0
BEGIN:VEVENT
DTSTART:20060427T093000Z
DTEND:20060427T163000Z
DCREATED:20060331T154116Z
UID:ATEvent-df677c57287efee00899c807283097dc
SEQUENCE:0
LAST-MODIFIED:20060710T135220Z
SUMMARY:EGEE Industry Day, 27 April 2006, Paris, France
PRIORITY:3
TRANSP:0
END:VEVENT


END:VCALENDAR
