BEGIN:VCALENDAR
PRODID:-//AT Content Types//AT Event//EN
VERSION:1.0
BEGIN:VEVENT
DTSTART:20060703T090000Z
DTEND:20060705T200000Z
DCREATED:20060607T155517Z
UID:ATEvent-c4aa703b365d223554e94f61cd04d29e
SEQUENCE:0
LAST-MODIFIED:20060607T161454Z
SUMMARY:DEISA Training Session, Paris, France
LOCATION:Paris, France
PRIORITY:3
TRANSP:0
END:VEVENT


END:VCALENDAR
