BEGIN:VCALENDAR
PRODID:-//AT Content Types//AT Event//EN
VERSION:1.0
BEGIN:VEVENT
DTSTART:20061002T090000Z
DTEND:20061205T000000Z
DCREATED:20060811T170558Z
UID:ATEvent-ea27efe054a164ff99f260db349a927c
SEQUENCE:0
LAST-MODIFIED:20060811T170731Z
SUMMARY:GGUS Monthly Training Days
PRIORITY:3
TRANSP:0
END:VEVENT


END:VCALENDAR
